BEGIN:VCALENDAR
VERSION:2.0
PRODID:-//ChamberMaster//Event Calendar 2.0//EN
METHOD:PUBLISH
X-PUBLISHED-TTL:P3D
REFRESH-INTERVAL:P3D
CALSCALE:GREGORIAN
BEGIN:VEVENT
DTSTART:20210413T140000Z
DTEND:20210413T160000Z
X-MICROSOFT-CDO-ALLDAYEVENT:FALSE
SUMMARY:CRA PR Committee Meeting - 4/13/21
DESCRIPTION:Zoom meeting information will be emailed to you following registration.
X-ALT-DESC;FMTTYPE=text/html:Zoom meeting information will be emailed to you following registration.
LOCATION:
UID:e.9469.585
SEQUENCE:3
DTSTAMP:20260425T121824Z
URL:https://info.micountyroads.org/events/details/cra-pr-committee-meeting-4-13-21-585
END:VEVENT

END:VCALENDAR
