BEGIN:VCALENDAR
VERSION:2.0
PRODID:-//ChamberMaster//Event Calendar 2.0//EN
METHOD:PUBLISH
X-PUBLISHED-TTL:P3D
REFRESH-INTERVAL:P3D
CALSCALE:GREGORIAN
BEGIN:VEVENT
DTSTART;VALUE=DATE:20260923
DTEND;VALUE=DATE:20260924
TRANSP:TRANSPARENT
X-MICROSOFT-CDO-ALLDAYEVENT:TRUE
SUMMARY:Rural Task Force (RTF) Outreach - Houghton - September 23\, 2026
DESCRIPTION:Rural Task Force (RTF) Education Committee\, a sub-committee of the RTF Program Advisory Board\, will be holding outreach training for all RTF members in September 2026.  The outreach will be repeated at five locations across the state:\n\nFlint - Wednesday\, September 9th\n\nRobert J. Foy Administration and Training Facility\n\n1401 South Dort Highway\, Flint\, MI 48503\n\n \n\nGaylord- Thursday\, September 10th\n\nOtsego District Public Library\n\n401 Dix St\, Otsego\, MI 49078\n\n \n\nKalamazoo - Thursday\, September 17th\n\nRoad Commission of Kalamazoo County\n\n4400 S 26th St\, Kalamazoo\, MI 49048\n\n \n\nEscanaba   Tuesday\, September 22nd\n\nSecretary of State Branch Office\n\n305 Ludington St\, Escanaba\, MI 49829\n\n \n\nHoughton - Wednesday\, September 23rd\n\nMichigan Tech Great Lakes Research Center - Rooms 201/202\n\n100 Phoenix Dr\, Houghton\, MI 49931\n\n\n\nCheck-in and a light breakfast will start at 8:30 a.m.\, a welcome address at 8:50 a.m. and the training session starting at 9 a.m. and ending around 4 p.m.  Lunch will be provided.
X-ALT-DESC;FMTTYPE=text/html:<p><span style="font-family:arial\;">Rural Task Force (RTF) Education Committee\, a sub-committee of the RTF Program Advisory Board\, will be holding outreach training for all RTF members in September 2026.&nbsp\; The outreach will be repeated at five locations across the state:</span></p>\n\n<p style="margin-top: 0in\; margin-right: 0in\; margin-bottom: 0in\;">Flint - Wednesday\, September 9th</p>\n\n<p style="margin-top: 0in\; margin-right: 0in\; margin-bottom: 0in\;">Robert J. Foy Administration and Training Facility</p>\n\n<p style="margin-top: 0in\; margin-right: 0in\; margin-bottom: 0in\;">1401 South Dort Highway\, Flint\, MI 48503<br />\n&nbsp\;</p>\n\n<p style="margin-top: 0in\; margin-right: 0in\; margin-bottom: 0in\;">Gaylord- Thursday\, September 10<sup>th</sup></p>\n\n<p style="margin-top: 0in\; margin-right: 0in\; margin-bottom: 0in\;">Otsego District Public Library</p>\n\n<p style="margin-top: 0in\; margin-right: 0in\; margin-bottom: 0in\;">401 Dix St\, Otsego\, MI 49078<br />\n&nbsp\;</p>\n\n<p style="margin-top: 0in\; margin-right: 0in\; margin-bottom: 0in\;">Kalamazoo - Thursday\, September 17<sup>th</sup></p>\n\n<p style="margin-top: 0in\; margin-right: 0in\; margin-bottom: 0in\;">Road Commission of Kalamazoo County</p>\n\n<p style="margin-top: 0in\; margin-right: 0in\; margin-bottom: 0in\;">4400 S 26th St\, Kalamazoo\, MI 49048<br />\n&nbsp\;</p>\n\n<p style="margin-top: 0in\; margin-right: 0in\; margin-bottom: 0in\;">Escanaba &ndash\; Tuesday\, September 22<sup>nd</sup></p>\n\n<p style="margin-top: 0in\; margin-right: 0in\; margin-bottom: 0in\;">Secretary of State Branch Office</p>\n\n<p style="margin-top: 0in\; margin-right: 0in\; margin-bottom: 0in\;">305 Ludington St\, Escanaba\, MI 49829<br />\n&nbsp\;</p>\n\n<p style="margin-top: 0in\; margin-right: 0in\; margin-bottom: 0in\;">Houghton - Wednesday\, September 23rd</p>\n\n<p style="margin-top: 0in\; margin-right: 0in\; margin-bottom: 0in\;">Michigan Tech Great Lakes Research Center - Rooms 201/202</p>\n\n<p style="margin-top: 0in\; margin-right: 0in\; margin-bottom: 0in\;">100 Phoenix Dr\, Houghton\, MI 49931<br />\n<br />\n<span style="color: rgb(68\, 68\, 68)\; font-family: Arial\, Helvetica\, sans-serif\; font-size: 14px\;">Check-in and a light breakfast will start at 8:30 a.m.\, a welcome address at 8:50 a.m. and the training session starting at 9 a.m. and ending around 4 p.m.&nbsp\; Lunch will be provided.</span></p>\n
LOCATION:Houghton - Wednesday\, September 23rd Michigan Tech Great Lakes Research Center - Rooms 201/202 100 Phoenix Dr\, Houghton\, MI 49931
UID:e.9469.844
SEQUENCE:3
DTSTAMP:20260425T201254Z
URL:https://info.micountyroads.org/events/details/rural-task-force-rtf-outreach-houghton-september-23-2026-844
END:VEVENT

END:VCALENDAR
